BEGIN:VCALENDAR
VERSION:2.0
METHOD:PUBLISH
PRODID:-//Microsoft Corporation//Outlook 11.0 MIMEDIR//EN
BEGIN:VEVENT
UID:03fd00b9-6b3b-4121-a0bb-57a362e9b4fa
DTSTAMP:20260425T101310Z
DTSTART:20240522T160000Z
DTEND:20240522T203000Z
SUMMARY:RingCentral Partner Connect Chicago
LOCATION:Aba & The Dalcy
DESCRIPTION:Impactful speakers\, incredible venues\, and exciting new products: RingCentral Partner Connect is where RingCentral executives and our partners come together to collaborate\, learn\, and grow\, with valuable information to fuel your business.\n\nThe goal of this global event series is to put you directly in touch with our experts who can help you turn new RingCentral CX and AI innovations into revenue.\n\nWith so much opportunity to leverage new customer use cases and capture more of the total addressable IT market\, RingCentral Partner Connect events are where the foundation for success is built.\n\nWe’re looking forward to "connecting" with you!\n\nGet Directions: \nhttps://www.google.com/maps/dir//The+Dalcy+Third+Floor+302+N+Green+St+Chicago\,+IL+60607/@41.8869734\,-87.6488237\,13z/data=!4m5!4m4!1m0!1m2!1m1!1s0x880e2d136706cdc5:0xcc098788281cbb3d
END:VEVENT
END:VCALENDAR
